BEGIN:VCALENDAR
VERSION:2.0
PRODID:-//San Miguel Arcangel Missions - ECPv6.15.20//NONSGML v1.0//EN
CALSCALE:GREGORIAN
METHOD:PUBLISH
X-WR-CALNAME:San Miguel Arcangel Missions
X-ORIGINAL-URL:https://www.sanmiguelarcangelmissions.org
X-WR-CALDESC:Events for San Miguel Arcangel Missions
REFRESH-INTERVAL;VALUE=DURATION:PT1H
X-Robots-Tag:noindex
X-PUBLISHED-TTL:PT1H
BEGIN:VTIMEZONE
TZID:America/Chicago
BEGIN:DAYLIGHT
TZOFFSETFROM:-0600
TZOFFSETTO:-0500
TZNAME:CDT
DTSTART:20210314T080000
END:DAYLIGHT
BEGIN:STANDARD
TZOFFSETFROM:-0500
TZOFFSETTO:-0600
TZNAME:CST
DTSTART:20211107T070000
END:STANDARD
BEGIN:DAYLIGHT
TZOFFSETFROM:-0600
TZOFFSETTO:-0500
TZNAME:CDT
DTSTART:20220313T080000
END:DAYLIGHT
BEGIN:STANDARD
TZOFFSETFROM:-0500
TZOFFSETTO:-0600
TZNAME:CST
DTSTART:20221106T070000
END:STANDARD
BEGIN:DAYLIGHT
TZOFFSETFROM:-0600
TZOFFSETTO:-0500
TZNAME:CDT
DTSTART:20230312T080000
END:DAYLIGHT
BEGIN:STANDARD
TZOFFSETFROM:-0500
TZOFFSETTO:-0600
TZNAME:CST
DTSTART:20231105T070000
END:STANDARD
BEGIN:DAYLIGHT
TZOFFSETFROM:-0600
TZOFFSETTO:-0500
TZNAME:CDT
DTSTART:20240310T080000
END:DAYLIGHT
BEGIN:STANDARD
TZOFFSETFROM:-0500
TZOFFSETTO:-0600
TZNAME:CST
DTSTART:20241103T070000
END:STANDARD
BEGIN:DAYLIGHT
TZOFFSETFROM:-0600
TZOFFSETTO:-0500
TZNAME:CDT
DTSTART:20250309T080000
END:DAYLIGHT
BEGIN:STANDARD
TZOFFSETFROM:-0500
TZOFFSETTO:-0600
TZNAME:CST
DTSTART:20251102T070000
END:STANDARD
BEGIN:DAYLIGHT
TZOFFSETFROM:-0600
TZOFFSETTO:-0500
TZNAME:CDT
DTSTART:20260308T080000
END:DAYLIGHT
BEGIN:STANDARD
TZOFFSETFROM:-0500
TZOFFSETTO:-0600
TZNAME:CST
DTSTART:20261101T070000
END:STANDARD
END:VTIMEZONE
BEGIN:VEVENT
DTSTART;VALUE=DATE:20250926
DTEND;VALUE=DATE:20251006
DTSTAMP:20260419T072956
CREATED:20250613T193448Z
LAST-MODIFIED:20250613T193529Z
UID:12990-1758844800-1759708799@www.sanmiguelarcangelmissions.org
SUMMARY:Immersion Trip Sep 26 - Oct. 5th
DESCRIPTION:Volunteers are still needed for this trip which will be for 10 days and with your help we will be providing a home for a family in need.  Approximate cost of the trip is $1\,500 and includes roundtrip airfare\, lodging\, all food and ground transportation.  We rarely have open trips\, so now is your chance to join us and be immersed in the beautiful culture of Belize and at the same time\, provide a much needed home. Don’t miss this opportunity for a life changing experience!  For further information\, feel free to contact us at (256) 887-3117 or email us at contact@sanmiguelarcangelmissions.org.
URL:https://www.sanmiguelarcangelmissions.org/immersion-trip/immersion-trip-sept-26-oct-5/
LOCATION:Armenia\, Belize
ATTACH;FMTTYPE=image/png:https://www.sanmiguelarcangelmissions.org/wp-content/uploads/2025/06/Immersion-Trip-Sep-Oct-2025.png
ORGANIZER;CN="San Miguel Arcangel Missions":MAILTO:contact@sanmiguelarcangelmissions.org
END:VEVENT
BEGIN:VEVENT
DTSTART;VALUE=DATE:20250217
DTEND;VALUE=DATE:20250227
DTSTAMP:20260419T072956
CREATED:20241213T140937Z
LAST-MODIFIED:20241213T140937Z
UID:12903-1739750400-1740614399@www.sanmiguelarcangelmissions.org
SUMMARY:Immersion Trip Feb 17-26\, 2025
DESCRIPTION:We are pleased to announce an open Immersion trip for February of 2025!  We are in need of 3-4 more volunteers for February 17-26\, 2025 in order to build a home for a family in need.  If you love to be immersed in a different culture\, love to travel\, and want to make a difference in someone’s life\, prayerfully consider joining us for a life changing trip!  Approximate cost of the 10 day trip is $1\,500.  If you are interested\, please contact us as soon as possible at the number or email below.
URL:https://www.sanmiguelarcangelmissions.org/immersion-trip/february-immersion-trip/
LOCATION:Armenia\, Belize
ATTACH;FMTTYPE=image/png:https://www.sanmiguelarcangelmissions.org/wp-content/uploads/2024/08/Volunteers-Needed-.png
ORGANIZER;CN="San Miguel Arcangel Missions":MAILTO:contact@sanmiguelarcangelmissions.org
END:VEVENT
BEGIN:VEVENT
DTSTART;VALUE=DATE:20241022
DTEND;VALUE=DATE:20241101
DTSTAMP:20260419T072956
CREATED:20240824T143140Z
LAST-MODIFIED:20240824T144245Z
UID:12870-1729555200-1730419199@www.sanmiguelarcangelmissions.org
SUMMARY:Rosa Vargas' Home (October 22 - October 31st\, 2024)
DESCRIPTION:Have you ever wanted to serve on a mission trip and be immersed into a different culture? Now is the time!!! We are excited to announce that we have an open trip in which we are in need of 4 volunteers to help build a home for a family in the village of Las Flores\, Belize. The home is being donated by several generous donors. \n\nYou are invited to join 4 others on a life-changing journey with us\, providing a home for the family of Rosa Vargas. Here’s your opportunity to serve others as the Lord calls us to do and at the same time you will be exploring and enjoying the beautiful country of Belize. \n\nThe cost of the trip is approximately $1\,500 which pays for your round-trip flight to Belize\, all meals\, lodging and ground transportation. You must have a valid passport for this trip. If you have further questions and/or are interested in this trip\, please reply as soon as possible to:\ncjrhonemus@gmail.com
URL:https://www.sanmiguelarcangelmissions.org/immersion-trip/rosa-vargas-trip/
LOCATION:Las Flores\, Belize\, Las Flores\, Belize
ATTACH;FMTTYPE=image/png:https://www.sanmiguelarcangelmissions.org/wp-content/uploads/2024/08/Volunteers-Needed-.png
ORGANIZER;CN="San Miguel Arcangel Missions":MAILTO:contact@sanmiguelarcangelmissions.org
END:VEVENT
BEGIN:VEVENT
DTSTART;VALUE=DATE:20231009
DTEND;VALUE=DATE:20231019
DTSTAMP:20260419T072956
CREATED:20230323T125223Z
LAST-MODIFIED:20230627T125243Z
UID:9842-1696809600-1697673599@www.sanmiguelarcangelmissions.org
SUMMARY:Maria Vargas' Home (October 9th - October 18th\, 2023)
DESCRIPTION:Maria Vargas’ home was in bad shape to begin with\, but when Hurricane Lisa hit the village in November 2022\, her home sustained a lot of damage.  Part of her roof blew off\, which we fixed temporarily. The structure itself we were able to also fix with some temporary 2 x 4 beams.  Besides the roof damage\, the floor is rock and mud with old linoleum over top of it.  There are gaps between the wood walls throughout her home and the roof leaks. \nMaria has property on which we can build and a septic system already\, although she does not have an indoor toilet. This home will be a small 20 x 16 house construction project.
URL:https://www.sanmiguelarcangelmissions.org/immersion-trip/mariavargashome/
LOCATION:Las Flores\, Belize\, Las Flores\, Belize
ATTACH;FMTTYPE=image/jpeg:https://www.sanmiguelarcangelmissions.org/wp-content/uploads/2023/01/Maria-Bargas-House-003-scaled.jpg
ORGANIZER;CN="San Miguel Arcangel Missions":MAILTO:contact@sanmiguelarcangelmissions.org
END:VEVENT
BEGIN:VEVENT
DTSTART;VALUE=DATE:20230505
DTEND;VALUE=DATE:20230516
DTSTAMP:20260419T072956
CREATED:20230323T124840Z
LAST-MODIFIED:20230323T130020Z
UID:9840-1683244800-1684195199@www.sanmiguelarcangelmissions.org
SUMMARY:Marcos & Evelyn Sibrian Bakery Business
DESCRIPTION:Marcos and Juana of 63 and 57 years old\, along with their children  Evelyn\, Jenny\, and Francisco bake goods in order to make a living. Juana suffers from diabetes\, Jenny is deaf and mute\, and Francisco is mentally handicap. Today\, they bake goods in their home kitchen and every day Marcos rides along in his bicycle selling the baked goods around the Village of Las Flores. Juana and Evelyn try to sell the baked goods during market days in Las Flores (Tuesdays and Fridays). \nSince this is the only family’s income\, we want to build them a Bakery store front. This project will consist of building a 14×16 feet small structure for their business on their own land. The family plans on using this space to cook and sell food and pastries for more exposure.
URL:https://www.sanmiguelarcangelmissions.org/immersion-trip/sibrian-bakery/
LOCATION:Las Flores\, Belize\, Las Flores\, Belize
ATTACH;FMTTYPE=image/jpeg:https://www.sanmiguelarcangelmissions.org/wp-content/uploads/2022/11/Marcos-2.jpg
ORGANIZER;CN="San Miguel Arcangel Missions":MAILTO:contact@sanmiguelarcangelmissions.org
END:VEVENT
BEGIN:VEVENT
DTSTART;VALUE=DATE:20230131
DTEND;VALUE=DATE:20230210
DTSTAMP:20260419T072956
CREATED:20220912T000532Z
LAST-MODIFIED:20221113T164826Z
UID:9358-1675123200-1675987199@www.sanmiguelarcangelmissions.org
SUMMARY:Chun's Family House Build Project
DESCRIPTION:This trip will focus on the construction of a new home for the Chun Family (see Construction/Renovation link).  We will also learn about the El Salvador culture\, share our faith and work together with the people in the Village to complete the house build project.  The cost for this trip is $1\,500.  This includes round trip air fare\, transportation\, lodging\, meals and a few extras.  The cost does not include any personal purchases\, or optional travel insurance.  Please contact us for further information.
URL:https://www.sanmiguelarcangelmissions.org/immersion-trip/chun-family-immersion-trip/
LOCATION:Las Flores\, Belize\, Las Flores\, Belize
ATTACH;FMTTYPE=image/jpeg:https://www.sanmiguelarcangelmissions.org/wp-content/uploads/2022/09/Peter-Chun-and-Family-1-scaled.jpg
ORGANIZER;CN="San Miguel Arcangel Missions":MAILTO:contact@sanmiguelarcangelmissions.org
END:VEVENT
BEGIN:VEVENT
DTSTART;VALUE=DATE:20221209
DTEND;VALUE=DATE:20221220
DTSTAMP:20260419T072956
CREATED:20221113T144801Z
LAST-MODIFIED:20221113T145451Z
UID:9404-1670544000-1671494399@www.sanmiguelarcangelmissions.org
SUMMARY:Olivia Castro's House Build
DESCRIPTION:**Please contact us for information regarding cost for trip** \nWe met Olivia when she was walking in the village with her grandson.  She begged us to come and look at her house and that all she needed was a roof.  She explained that when it rains\, she has to move everything in her house because her roof leaks.  We walked with her to her house and found that there was no way that just a roof was going to fix her problems.  The wood in the foundation of the house is rotten and there are holes in the walls where there is no longer any wood.  She does not have an indoor bathroom or a septic system. \n  \nOlivia has five children\, one of whom still lives at home\, she also takes care of one of her special needs grandsons.  Olivia sells baked goods in the village where she walks every day. \n  \nWe were able to get the donations for her home build and want to build this home as a Christmas Present for the Castro Family. We are in desperate need of a team of volunteers to complete this project in December 2022. The tentative dates are December 9th to December 19th\, 2022. Please contact us regarding information regarding the cost for this trip.
URL:https://www.sanmiguelarcangelmissions.org/immersion-trip/olivia-castro-roof/
LOCATION:Las Flores\, Belize\, Las Flores\, Belize
ATTACH;FMTTYPE=image/jpeg:https://www.sanmiguelarcangelmissions.org/wp-content/uploads/2022/09/Olivias-House-2-scaled.jpg
ORGANIZER;CN="San Miguel Arcangel Missions":MAILTO:contact@sanmiguelarcangelmissions.org
END:VEVENT
BEGIN:VEVENT
DTSTART;VALUE=DATE:20220319
DTEND;VALUE=DATE:20220330
DTSTAMP:20260419T072956
CREATED:20220228T015347Z
LAST-MODIFIED:20220228T024059Z
UID:9204-1647648000-1648598399@www.sanmiguelarcangelmissions.org
SUMMARY:Painting Projects
DESCRIPTION:This trip will focus on the painting of the San Miguel Arcangel Catholic Church as well as the interior of a home that we recently constructed for a family in the village of Armenia. We will also learn about the El Salvador culture\, share our faith and work together with the people in the Village to complete the painting projects. The cost for this trip is $1\,500. This includes round trip air fare\, transportation\, lodging\, meals and a few extras. The cost does not include any personal purchases\, or optional travel insurance. Please contact us for further information.
URL:https://www.sanmiguelarcangelmissions.org/immersion-trip/painting-projects/
LOCATION:Las Flores\, Belize\, Las Flores\, Belize
ATTACH;FMTTYPE=image/jpeg:https://www.sanmiguelarcangelmissions.org/wp-content/uploads/2022/02/painting-projects.jpg
ORGANIZER;CN="San Miguel Arcangel Missions":MAILTO:contact@sanmiguelarcangelmissions.org
END:VEVENT
BEGIN:VEVENT
DTSTART;VALUE=DATE:20220129
DTEND;VALUE=DATE:20220209
DTSTAMP:20260419T072956
CREATED:20210904T073806Z
LAST-MODIFIED:20211121T071329Z
UID:8376-1643414400-1644364799@www.sanmiguelarcangelmissions.org
SUMMARY:Ortiz House Build
DESCRIPTION:This trip will focus on the building of a 20 x 20 zinc home for the Ortiz family. We will also learn about the El Salvador culture\, share our faith and work together with the people in the Village to complete the house build. The cost for this trip is $1\,500. This includes round trip air fare\, transportation\, lodging\, most of your meals and a few extras. The cost does not include any personal purchases\, dining out\, or optional travel insurance. Please contact us for further information.
URL:https://www.sanmiguelarcangelmissions.org/immersion-trip/ortiz-house-build/
LOCATION:Las Flores\, Belize\, Las Flores\, Belize
ATTACH;FMTTYPE=image/jpeg:https://www.sanmiguelarcangelmissions.org/wp-content/uploads/2021/09/ortiz-house-build-1550x490.jpg
ORGANIZER;CN="San Miguel Arcangel Missions":MAILTO:contact@sanmiguelarcangelmissions.org
END:VEVENT
END:VCALENDAR